BEGIN:VCALENDAR
VERSION:2.0
PRODID:-//Penn State DC Chapter Alumni Website - ECPv6.15.18//NONSGML v1.0//EN
CALSCALE:GREGORIAN
METHOD:PUBLISH
X-WR-CALNAME:Penn State DC Chapter Alumni Website
X-ORIGINAL-URL:https://staging.psuwashdc.org
X-WR-CALDESC:Events for Penn State DC Chapter Alumni Website
REFRESH-INTERVAL;VALUE=DURATION:PT1H
X-Robots-Tag:noindex
X-PUBLISHED-TTL:PT1H
BEGIN:VTIMEZONE
TZID:America/New_York
BEGIN:DAYLIGHT
TZOFFSETFROM:-0500
TZOFFSETTO:-0400
TZNAME:EDT
DTSTART:20240310T070000
END:DAYLIGHT
BEGIN:STANDARD
TZOFFSETFROM:-0400
TZOFFSETTO:-0500
TZNAME:EST
DTSTART:20241103T060000
END:STANDARD
BEGIN:DAYLIGHT
TZOFFSETFROM:-0500
TZOFFSETTO:-0400
TZNAME:EDT
DTSTART:20250309T070000
END:DAYLIGHT
BEGIN:STANDARD
TZOFFSETFROM:-0400
TZOFFSETTO:-0500
TZNAME:EST
DTSTART:20251102T060000
END:STANDARD
BEGIN:DAYLIGHT
TZOFFSETFROM:-0500
TZOFFSETTO:-0400
TZNAME:EDT
DTSTART:20260308T070000
END:DAYLIGHT
BEGIN:STANDARD
TZOFFSETFROM:-0400
TZOFFSETTO:-0500
TZNAME:EST
DTSTART:20261101T060000
END:STANDARD
END:VTIMEZONE
BEGIN:VEVENT
DTSTART;VALUE=DATE:20250426
DTEND;VALUE=DATE:20250802
DTSTAMP:20260420T024420
CREATED:20250503T182220Z
LAST-MODIFIED:20250516T220614Z
UID:10000034-1745625600-1754092799@staging.psuwashdc.org
SUMMARY:Softball Registration
DESCRIPTION:This is the MWC PSAA Softball Registration for Spring/Summer 2025.
URL:https://staging.psuwashdc.org/event/softball-registration/
LOCATION:West Potomac Park\, Washington D.C.
ORGANIZER;CN="Sports Committee":MAILTO:sports@psuwashdc.org
END:VEVENT
BEGIN:VEVENT
DTSTART;VALUE=DATE:20250717
DTEND;VALUE=DATE:20250718
DTSTAMP:20260420T024420
CREATED:20250709T000040Z
LAST-MODIFIED:20250709T000040Z
UID:10000045-1752710400-1752796799@staging.psuwashdc.org
SUMMARY:Deadline to Signup for Kickball (11v11 Coed) + Flip Cup ALUMNI
DESCRIPTION:Team “Nittany Lions” is back for another summer of kickball on the National Mall! Join us on Tuesday nights\, beginning July 22nd for kickball followed by flip cup! The league will include six regular season games\, followed by two playoff games. Check out the link in our bio to sign up for Team “Nittany Lions” by July 17th! \nLink: https://www.volosports.com/g/685767545c746fd681cc8a19  \n  \n \n  \nFor any questions\, please reach out to sports@psuwashdc.org
URL:https://staging.psuwashdc.org/event/deadline-to-signup-for-kickball-11v11-coed-flip-cup-alumni/
LOCATION:National Mall
ORGANIZER;CN="Sports Committee":MAILTO:sports@psuwashdc.org
END:VEVENT
END:VCALENDAR