BEGIN:VCALENDAR
VERSION:2.0
PRODID:-//Penn State DC Chapter Alumni Website - ECPv6.15.18//NONSGML v1.0//EN
CALSCALE:GREGORIAN
METHOD:PUBLISH
X-ORIGINAL-URL:https://staging.psuwashdc.org
X-WR-CALDESC:Events for Penn State DC Chapter Alumni Website
REFRESH-INTERVAL;VALUE=DURATION:PT1H
X-Robots-Tag:noindex
X-PUBLISHED-TTL:PT1H
BEGIN:VTIMEZONE
TZID:America/New_York
BEGIN:DAYLIGHT
TZOFFSETFROM:-0500
TZOFFSETTO:-0400
TZNAME:EDT
DTSTART:20240310T070000
END:DAYLIGHT
BEGIN:STANDARD
TZOFFSETFROM:-0400
TZOFFSETTO:-0500
TZNAME:EST
DTSTART:20241103T060000
END:STANDARD
BEGIN:DAYLIGHT
TZOFFSETFROM:-0500
TZOFFSETTO:-0400
TZNAME:EDT
DTSTART:20250309T070000
END:DAYLIGHT
BEGIN:STANDARD
TZOFFSETFROM:-0400
TZOFFSETTO:-0500
TZNAME:EST
DTSTART:20251102T060000
END:STANDARD
BEGIN:DAYLIGHT
TZOFFSETFROM:-0500
TZOFFSETTO:-0400
TZNAME:EDT
DTSTART:20260308T070000
END:DAYLIGHT
BEGIN:STANDARD
TZOFFSETFROM:-0400
TZOFFSETTO:-0500
TZNAME:EST
DTSTART:20261101T060000
END:STANDARD
END:VTIMEZONE
BEGIN:VEVENT
DTSTART;TZID=America/New_York:20251013T200000
DTEND;TZID=America/New_York:20251013T230000
DTSTAMP:20260419T213621
CREATED:20250604T000729Z
LAST-MODIFIED:20251006T184821Z
UID:10000038-1760385600-1760396400@staging.psuwashdc.org
SUMMARY:PSU Night @ Commanders 2025 🏈🏟️
DESCRIPTION:Get ready\, Nittany Nation — we’re taking over the NFL at Northwest Stadium! \nJoin fellow Penn State alumni\, fans\, and friends for Penn State Night at the Washington Commanders! \nUse Code: PSU \n\nChicago Bears\n\nOctober 13 @ 8:15 PM\n\n\n\n🎟️ Tickets go fast – grab yours now! TICKET LINK
URL:https://staging.psuwashdc.org/event/psu-night-at-commanders2025/
LOCATION:Northwest Stadium\, 1600 Ring Rd\, Landover\, MD\, 20785\, United States
ORGANIZER;CN="Social Committee":MAILTO:social@psuwashdc.org
END:VEVENT
END:VCALENDAR