BEGIN:VCALENDAR
VERSION:2.0
PRODID:-//Penn State DC Chapter Alumni Website - ECPv6.15.18//NONSGML v1.0//EN
CALSCALE:GREGORIAN
METHOD:PUBLISH
X-ORIGINAL-URL:https://staging.psuwashdc.org
X-WR-CALDESC:Events for Penn State DC Chapter Alumni Website
REFRESH-INTERVAL;VALUE=DURATION:PT1H
X-Robots-Tag:noindex
X-PUBLISHED-TTL:PT1H
BEGIN:VTIMEZONE
TZID:America/New_York
BEGIN:DAYLIGHT
TZOFFSETFROM:-0500
TZOFFSETTO:-0400
TZNAME:EDT
DTSTART:20240310T070000
END:DAYLIGHT
BEGIN:STANDARD
TZOFFSETFROM:-0400
TZOFFSETTO:-0500
TZNAME:EST
DTSTART:20241103T060000
END:STANDARD
BEGIN:DAYLIGHT
TZOFFSETFROM:-0500
TZOFFSETTO:-0400
TZNAME:EDT
DTSTART:20250309T070000
END:DAYLIGHT
BEGIN:STANDARD
TZOFFSETFROM:-0400
TZOFFSETTO:-0500
TZNAME:EST
DTSTART:20251102T060000
END:STANDARD
BEGIN:DAYLIGHT
TZOFFSETFROM:-0500
TZOFFSETTO:-0400
TZNAME:EDT
DTSTART:20260308T070000
END:DAYLIGHT
BEGIN:STANDARD
TZOFFSETFROM:-0400
TZOFFSETTO:-0500
TZNAME:EST
DTSTART:20261101T060000
END:STANDARD
END:VTIMEZONE
BEGIN:VEVENT
DTSTART;TZID=America/New_York:20251213T080000
DTEND;TZID=America/New_York:20251213T100000
DTSTAMP:20260419T180459
CREATED:20251207T232447Z
LAST-MODIFIED:20251207T232447Z
UID:10000065-1765612800-1765620000@staging.psuwashdc.org
SUMMARY:Wreaths Across America Day 2025
DESCRIPTION:DATE/TIME: Saturday December 13th 8:00 AM\nLOCATION: Arlington National Cemetery\, Meeting Point: Rosslyn Metro station \nPlease join us in a special day of remembrance as we gather for Wreaths Across America at Arlington National Cemetery. We will be congregating outside the Rosslyn Metro at 8AM and walking over to the Cemetery through the Ord & Weitzel gate. We hope to see you there as we honor those who have served in this special occasion.
URL:https://staging.psuwashdc.org/event/wreaths-across-america-day-2025/
LOCATION:DC
ORGANIZER;CN="Community Service Committee":MAILTO:service@psuwashdc.org
END:VEVENT
END:VCALENDAR