BEGIN:VCALENDAR
VERSION:2.0
PRODID:-//Penn State DC Chapter Alumni Website - ECPv6.15.18//NONSGML v1.0//EN
CALSCALE:GREGORIAN
METHOD:PUBLISH
X-WR-CALNAME:Penn State DC Chapter Alumni Website
X-ORIGINAL-URL:https://staging.psuwashdc.org
X-WR-CALDESC:Events for Penn State DC Chapter Alumni Website
REFRESH-INTERVAL;VALUE=DURATION:PT1H
X-Robots-Tag:noindex
X-PUBLISHED-TTL:PT1H
BEGIN:VTIMEZONE
TZID:UTC
BEGIN:STANDARD
TZOFFSETFROM:+0000
TZOFFSETTO:+0000
TZNAME:UTC
DTSTART:20230101T000000
END:STANDARD
END:VTIMEZONE
BEGIN:VEVENT
DTSTART;TZID=UTC:20241012T120000
DTEND;TZID=UTC:20241012T150000
DTSTAMP:20260425T110624
CREATED:20240828T030601Z
LAST-MODIFIED:20240905T061002Z
UID:10000010-1728734400-1728745200@staging.psuwashdc.org
SUMMARY:Football Watch Party: PSU vs. USC
DESCRIPTION:**Game day time to be announced** \nJoin us at one of our local Penn State-affiliated watch bars to get a PSU Game Day experience right here in the DMV. This watch party will include a 50/50 raffle\, prizes and food/drinks specials to enjoy the game. Proceeds from the raffle benefit the Metro Washington DC Scholarship Fund. We can’t wait to see you there!
URL:https://staging.psuwashdc.org/event/football-watch-party-psu-vs-usc/
LOCATION:Exiles Bar\, 1610 U St NW\, Washington\, DC\, 20009\, United States
ORGANIZER;CN="Social Committee":MAILTO:social@psuwashdc.org
END:VEVENT
BEGIN:VEVENT
DTSTART;TZID=UTC:20241026T120000
DTEND;TZID=UTC:20241026T150000
DTSTAMP:20260425T110624
CREATED:20240828T030816Z
LAST-MODIFIED:20240828T031540Z
UID:10000011-1729944000-1729954800@staging.psuwashdc.org
SUMMARY:Football Watch Party: PSU vs. Wisconsin
DESCRIPTION:Join us at one of our local Penn State-affiliated watch bars to get a PSU Game Day experience right here in the DMV. This watch party will include a 50/50 raffle\, prizes and food/drinks specials to enjoy the game. Proceeds from the raffle benefit the Metro Washington DC Scholarship Fund. We can’t wait to see you there!
URL:https://staging.psuwashdc.org/event/football-watch-party-psu-vs-wisconsin/
LOCATION:Ireland Four Courts\, 2051 Wilson Blvd\, Arlington\, VA\, 22201\, United States
ORGANIZER;CN="Social Committee":MAILTO:social@psuwashdc.org
END:VEVENT
BEGIN:VEVENT
DTSTART;TZID=UTC:20241029T200000
DTEND;TZID=UTC:20241029T210000
DTSTAMP:20260425T110624
CREATED:20240905T055536Z
LAST-MODIFIED:20240925T160404Z
UID:10000016-1730232000-1730235600@staging.psuwashdc.org
SUMMARY:Book Club: October 2024
DESCRIPTION:Join the Chapter Book Club each month to discuss a book of choice with fellow alumni members. RSVP to receive the Zoom link and join the next session of Book Club! \nThis month’s book is “Tomorrow and Tomorrow and Tomorrow\,” by Gabrielle Zevin. Join our Discord group to chat with us: https://discord.gg/CK7n88rV.
URL:https://staging.psuwashdc.org/event/book-club-october-2024/
LOCATION:Zoom
ORGANIZER;CN="Social Committee":MAILTO:social@psuwashdc.org
END:VEVENT
END:VCALENDAR