BEGIN:VCALENDAR
VERSION:2.0
PRODID:-//Penn State DC Chapter Alumni Website - ECPv6.15.18//NONSGML v1.0//EN
CALSCALE:GREGORIAN
METHOD:PUBLISH
X-ORIGINAL-URL:https://staging.psuwashdc.org
X-WR-CALDESC:Events for Penn State DC Chapter Alumni Website
REFRESH-INTERVAL;VALUE=DURATION:PT1H
X-Robots-Tag:noindex
X-PUBLISHED-TTL:PT1H
BEGIN:VTIMEZONE
TZID:UTC
BEGIN:STANDARD
TZOFFSETFROM:+0000
TZOFFSETTO:+0000
TZNAME:UTC
DTSTART:20230101T000000
END:STANDARD
END:VTIMEZONE
BEGIN:VTIMEZONE
TZID:America/New_York
BEGIN:DAYLIGHT
TZOFFSETFROM:-0500
TZOFFSETTO:-0400
TZNAME:EDT
DTSTART:20230312T070000
END:DAYLIGHT
BEGIN:STANDARD
TZOFFSETFROM:-0400
TZOFFSETTO:-0500
TZNAME:EST
DTSTART:20231105T060000
END:STANDARD
BEGIN:DAYLIGHT
TZOFFSETFROM:-0500
TZOFFSETTO:-0400
TZNAME:EDT
DTSTART:20240310T070000
END:DAYLIGHT
BEGIN:STANDARD
TZOFFSETFROM:-0400
TZOFFSETTO:-0500
TZNAME:EST
DTSTART:20241103T060000
END:STANDARD
BEGIN:DAYLIGHT
TZOFFSETFROM:-0500
TZOFFSETTO:-0400
TZNAME:EDT
DTSTART:20250309T070000
END:DAYLIGHT
BEGIN:STANDARD
TZOFFSETFROM:-0400
TZOFFSETTO:-0500
TZNAME:EST
DTSTART:20251102T060000
END:STANDARD
END:VTIMEZONE
BEGIN:VEVENT
DTSTART;TZID=UTC:20241102T120000
DTEND;TZID=UTC:20241102T150000
DTSTAMP:20260425T093607
CREATED:20240828T030926Z
LAST-MODIFIED:20240905T060941Z
UID:10000012-1730548800-1730559600@staging.psuwashdc.org
SUMMARY:Football Watch Party: PSU vs. Ohio State
DESCRIPTION:**Game day time to be announced** \nJoin us at one of our local Penn State-affiliated watch bars to get a PSU Game Day experience right here in the DMV. This watch party will include a 50/50 raffle\, prizes and food/drinks specials to enjoy the game. Proceeds from the raffle benefit the Metro Washington DC Scholarship Fund. We can’t wait to see you there!
URL:https://staging.psuwashdc.org/event/football-watch-party-psu-vs-ohio-state/
LOCATION:Carpool\, 900 N Glebe Rd\, Arlington\, VA\, 22203\, United States
ORGANIZER;CN="Social Committee":MAILTO:social@psuwashdc.org
END:VEVENT
BEGIN:VEVENT
DTSTART;TZID=America/New_York:20241102T120000
DTEND;TZID=America/New_York:20241102T160000
DTSTAMP:20260425T093607
CREATED:20241024T005324Z
LAST-MODIFIED:20241024T005324Z
UID:10000024-1730548800-1730563200@staging.psuwashdc.org
SUMMARY:Holiday Canned Food Drive
DESCRIPTION:Please join us at the Ohio State watch party for the 3rd Annual Holiday Food Drive! We will be raffling prizes for donating non-perishable food items to the little free pantries around the DMV area.
URL:https://staging.psuwashdc.org/event/holiday-canned-food-drive/
LOCATION:Carpool\, 900 N Glebe Rd\, Arlington\, VA\, 22203\, United States
ATTACH;FMTTYPE=image/jpeg:https://staging.psuwashdc.org/app/uploads/2024/10/Pantry-2.jpg
END:VEVENT
BEGIN:VEVENT
DTSTART;TZID=UTC:20241116T120000
DTEND;TZID=UTC:20241116T150000
DTSTAMP:20260425T093607
CREATED:20240828T031115Z
LAST-MODIFIED:20240905T060924Z
UID:10000013-1731758400-1731769200@staging.psuwashdc.org
SUMMARY:Football Watch Party: PSU vs. Purdue
DESCRIPTION:**Game day time to be announced** \nJoin us at one of our local Penn State-affiliated watch bars to get a PSU Game Day experience right here in the DMV. This watch party will include a 50/50 raffle\, prizes and food/drinks specials to enjoy the game. Proceeds from the raffle benefit the Metro Washington DC Scholarship Fund. We can’t wait to see you there!
URL:https://staging.psuwashdc.org/event/football-watch-party-psu-vs-purdue/
LOCATION:Old Ox\, 44652 Guilford Dr Unit 114\, Ashburn\, VA\, 20147\, United States
ORGANIZER;CN="Social Committee":MAILTO:social@psuwashdc.org
END:VEVENT
BEGIN:VEVENT
DTSTART;TZID=UTC:20241122T160000
DTEND;TZID=UTC:20241122T210000
DTSTAMP:20260425T093607
CREATED:20240813T072020Z
LAST-MODIFIED:20241122T165519Z
UID:10000002-1732291200-1732309200@staging.psuwashdc.org
SUMMARY:2024-2025 Student Break Bus Trips: Thanksgiving Break (Depart from University Park)
DESCRIPTION:The Student Break Buses\, sponsored by the Metro Washington\, DC Chapter of the Penn State Alumni Association\, provides safe\, reliable\, and economic transportation for students traveling between University Park and the Washington\, DC metro area over holiday and semester breaks. \n\nUniversity Park\, PA – Pick-up & Drop-off: Curtin Road beside the Berkey Creamery\nBethesda\, MD – Pick-up & Drop-off: Side parking lot of Walter Johnson High School in Bethesda\, MD\n\nThe trip between State College and Washington\, DC usually takes about 4 hours\, but keep in mind that travel times may vary with weather and/or traffic issues. Your purchase will provide a QR code that will be used for bus check-in – please be sure to save your QR code for ease of reference!
URL:https://staging.psuwashdc.org/event/2024-2025-student-break-bus-trips/
LOCATION:Berkey Creamery\, State College\, PA\, Rodney A. Erickson Food Science Building\, 119\, University Park\, PA\, 16802
ATTACH;FMTTYPE=image/jpeg:https://staging.psuwashdc.org/app/uploads/2024/08/2487.jpg
ORGANIZER;CN="Student Affairs Committee":MAILTO:studentaffairs@psuhwashdc.org
END:VEVENT
BEGIN:VEVENT
DTSTART;TZID=UTC:20241126T200000
DTEND;TZID=UTC:20241126T210000
DTSTAMP:20260425T093607
CREATED:20240905T055741Z
LAST-MODIFIED:20240925T160458Z
UID:10000017-1732651200-1732654800@staging.psuwashdc.org
SUMMARY:Book Club: November 2024
DESCRIPTION:Join the Chapter Book Club each month to discuss a book of choice with fellow alumni members. RSVP to receive the Zoom link and join the next session of Book Club! \nThis month’s book is “Beloved\,” by Toni Morrison. Join our Discord group to chat with us: https://discord.gg/CK7n88rV.
URL:https://staging.psuwashdc.org/event/book-club-november-2024/
LOCATION:Zoom
ORGANIZER;CN="Social Committee":MAILTO:social@psuwashdc.org
END:VEVENT
END:VCALENDAR