BEGIN:VCALENDAR
VERSION:2.0
PRODID:-//Penn State DC Chapter Alumni Website - ECPv6.15.18//NONSGML v1.0//EN
CALSCALE:GREGORIAN
METHOD:PUBLISH
X-ORIGINAL-URL:https://staging.psuwashdc.org
X-WR-CALDESC:Events for Penn State DC Chapter Alumni Website
REFRESH-INTERVAL;VALUE=DURATION:PT1H
X-Robots-Tag:noindex
X-PUBLISHED-TTL:PT1H
BEGIN:VTIMEZONE
TZID:America/New_York
BEGIN:DAYLIGHT
TZOFFSETFROM:-0500
TZOFFSETTO:-0400
TZNAME:EDT
DTSTART:20240310T070000
END:DAYLIGHT
BEGIN:STANDARD
TZOFFSETFROM:-0400
TZOFFSETTO:-0500
TZNAME:EST
DTSTART:20241103T060000
END:STANDARD
BEGIN:DAYLIGHT
TZOFFSETFROM:-0500
TZOFFSETTO:-0400
TZNAME:EDT
DTSTART:20250309T070000
END:DAYLIGHT
BEGIN:STANDARD
TZOFFSETFROM:-0400
TZOFFSETTO:-0500
TZNAME:EST
DTSTART:20251102T060000
END:STANDARD
BEGIN:DAYLIGHT
TZOFFSETFROM:-0500
TZOFFSETTO:-0400
TZNAME:EDT
DTSTART:20260308T070000
END:DAYLIGHT
BEGIN:STANDARD
TZOFFSETFROM:-0400
TZOFFSETTO:-0500
TZNAME:EST
DTSTART:20261101T060000
END:STANDARD
END:VTIMEZONE
BEGIN:VEVENT
DTSTART;TZID=America/New_York:20250906T120000
DTEND;TZID=America/New_York:20250906T160000
DTSTAMP:20260419T213719
CREATED:20250807T171607Z
LAST-MODIFIED:20250807T171607Z
UID:10000054-1757160000-1757174400@staging.psuwashdc.org
SUMMARY:Watch Party: PSU vs. FIU | DC Diamonds | Exile's Bar
DESCRIPTION:
URL:https://staging.psuwashdc.org/event/watch-party-psu-vs-fiu-dc-diamonds-exiles-bar/
LOCATION:Exiles Bar\, 1610 U St NW\, Washington\, DC\, 20009\, United States
ORGANIZER;CN="Social Committee":MAILTO:social@psuwashdc.org
END:VEVENT
BEGIN:VEVENT
DTSTART;TZID=America/New_York:20250913T120000
DTEND;TZID=America/New_York:20250913T130000
DTSTAMP:20260419T213719
CREATED:20250811T142254Z
LAST-MODIFIED:20250811T163949Z
UID:10000052-1757764800-1757768400@staging.psuwashdc.org
SUMMARY:F45 Benefitting THON
DESCRIPTION:Join Penn State DC Alumni at F45 Clarendon to raise money for D.C. Diamonds\, the charity arm of the Metro Washington Chapter of the Penn State Alumni Association for Penn State’s THON. DC Diamonds raises funds for the Four Diamonds Fund whose mission is to conquer childhood cancer. F45 is a global fitness and lifestyle community that offers a complete wellness solution\, combining functional training and high-intensity interval training (HIIT). \nEvent Information: \nDate: Saturday\, September 13 \nTime: 12:00 PM – 1:00 PM
URL:https://staging.psuwashdc.org/event/f45-benefitting-thon/
LOCATION:F45 Training Clarendon\, 2500 Wilson Blvd\, Arlington\, VA\, 22201\, United States
ORGANIZER;CN="THON":MAILTO:dcdiamondsftk@gmail.com
END:VEVENT
BEGIN:VEVENT
DTSTART;TZID=America/New_York:20250916T183000
DTEND;TZID=America/New_York:20250916T203000
DTSTAMP:20260419T213719
CREATED:20250816T012002Z
LAST-MODIFIED:20250826T032423Z
UID:10000060-1758047400-1758054600@staging.psuwashdc.org
SUMMARY:Trivia Tuesday Benefiting Scholarship
DESCRIPTION:Join us on Tuesday\, September 16 at CarPool – Ballston for Trivia Tuesday! This classic bar trivia night will benefit the MWCPSAA scholarship fund and is open to all\, Penn Staters and non-Nittany Lions alike. \nThere will be 5 themed rounds of general trivia with a Penn State-themed bonus question at the end of each round and prizes for the winning teams! CarPool will have food and drink specials available for their 4-7pm happy hour\, so be sure to get there early: trivia will start at 6:30pm. \nThe entry fee is $10/person with all proceeds going to our scholarship fund. Tickets can be purchased online in advance or at the door. There will also be an opportunity for teams to purchase “hints” and to get bonus points for the best team name\, so be sure to play strategically as there will be prizes for the winning teams! \nIf you have any questions\, please don’t hesitate to reach out to scholarship@psuwashdc.org\, and we look forward to seeing you there! \nThank you to our sponsor:
URL:https://staging.psuwashdc.org/event/trivia-tuesday-benefiting-scholarship/
LOCATION:Carpool\, 900 N Glebe Rd\, Arlington\, VA\, 22203\, United States
ORGANIZER;CN="Scholarship Committee":MAILTO:scholarship@psuwashdc.org
END:VEVENT
BEGIN:VEVENT
DTSTART;TZID=America/New_York:20250919T210000
DTEND;TZID=America/New_York:20250919T210000
DTSTAMP:20260419T213719
CREATED:20250908T144858Z
LAST-MODIFIED:20250908T162013Z
UID:10000061-1758315600-1758315600@staging.psuwashdc.org
SUMMARY:Penn State Takeover with DJ Yemi at Clarendon Ballroom
DESCRIPTION:Attention Penn Staters\, \nJoin us on Friday\, September 19th at 9 PM as DJ Yemi—a Penn State favorite—takes over the booth at Clarendon Ballroom! \n\nFree VIP entry for Penn Staters\, along with a welcome surprise to get the night started.\n\n \n  \n 
URL:https://staging.psuwashdc.org/event/penn-state-takeover-at-clarendon-ballroom/
LOCATION:Clarendon Ballroom\, 3185 Wilson Blvd\, Arlington\, VA\, 22201\, United States
ORGANIZER;CN="Social Committee":MAILTO:social@psuwashdc.org
END:VEVENT
BEGIN:VEVENT
DTSTART;TZID=America/New_York:20250927T193000
DTEND;TZID=America/New_York:20250927T233000
DTSTAMP:20260419T213719
CREATED:20250811T153900Z
LAST-MODIFIED:20250811T153900Z
UID:10000055-1759001400-1759015800@staging.psuwashdc.org
SUMMARY:Watch Party: PSU vs. Oregon | White Out | The Admiral
DESCRIPTION:
URL:https://staging.psuwashdc.org/event/watch-party-psu-vs-oregon-white-out-the-admiral/
LOCATION:The Admiral\, 1 Dupont Cir NW\, Washington\, DC\, 20036\, United States
ORGANIZER;CN="Social Committee":MAILTO:social@psuwashdc.org
END:VEVENT
END:VCALENDAR