BEGIN:VCALENDAR
VERSION:2.0
PRODID:-//Penn State DC Chapter Alumni Website - ECPv6.15.18//NONSGML v1.0//EN
CALSCALE:GREGORIAN
METHOD:PUBLISH
X-ORIGINAL-URL:https://staging.psuwashdc.org
X-WR-CALDESC:Events for Penn State DC Chapter Alumni Website
REFRESH-INTERVAL;VALUE=DURATION:PT1H
X-Robots-Tag:noindex
X-PUBLISHED-TTL:PT1H
BEGIN:VTIMEZONE
TZID:America/New_York
BEGIN:DAYLIGHT
TZOFFSETFROM:-0500
TZOFFSETTO:-0400
TZNAME:EDT
DTSTART:20240310T070000
END:DAYLIGHT
BEGIN:STANDARD
TZOFFSETFROM:-0400
TZOFFSETTO:-0500
TZNAME:EST
DTSTART:20241103T060000
END:STANDARD
BEGIN:DAYLIGHT
TZOFFSETFROM:-0500
TZOFFSETTO:-0400
TZNAME:EDT
DTSTART:20250309T070000
END:DAYLIGHT
BEGIN:STANDARD
TZOFFSETFROM:-0400
TZOFFSETTO:-0500
TZNAME:EST
DTSTART:20251102T060000
END:STANDARD
BEGIN:DAYLIGHT
TZOFFSETFROM:-0500
TZOFFSETTO:-0400
TZNAME:EDT
DTSTART:20260308T070000
END:DAYLIGHT
BEGIN:STANDARD
TZOFFSETFROM:-0400
TZOFFSETTO:-0500
TZNAME:EST
DTSTART:20261101T060000
END:STANDARD
BEGIN:DAYLIGHT
TZOFFSETFROM:-0500
TZOFFSETTO:-0400
TZNAME:EDT
DTSTART:20270314T070000
END:DAYLIGHT
BEGIN:STANDARD
TZOFFSETFROM:-0400
TZOFFSETTO:-0500
TZNAME:EST
DTSTART:20271107T060000
END:STANDARD
END:VTIMEZONE
BEGIN:VEVENT
DTSTART;TZID=America/New_York:20251215T000000
DTEND;TZID=America/New_York:20260115T000000
DTSTAMP:20260419T144350
CREATED:20251215T150516Z
LAST-MODIFIED:20251215T150516Z
UID:10000066-1765756800-1768435200@staging.psuwashdc.org
SUMMARY:Registration for Dodgeball + Flip Cup (Alumni League)
DESCRIPTION:Penn State DC is bringing the Nittany Lion pride to the court! 🦁 Join our Penn State alumni dodgeball team as we compete in the Volo University League on Thursday nights\, starting January 22. Post-game festivities are at Whitlows on U Street. The signup link is below! Please email sports@psuwashdc.org with any questions.
URL:https://staging.psuwashdc.org/event/registration-for-dodgeball-flip-cup-alumni-league/
LOCATION:Shiloh Baptist Church\, 1500 Ninth St NW\, Washington\, DC\, 20001\, United States
ORGANIZER;CN="Sports Committee":MAILTO:sports@psuwashdc.org
END:VEVENT
BEGIN:VEVENT
DTSTART;TZID=America/New_York:20260111T140000
DTEND;TZID=America/New_York:20260111T180000
DTSTAMP:20260419T144350
CREATED:20250728T021039Z
LAST-MODIFIED:20251117T233004Z
UID:10000049-1768140000-1768154400@staging.psuwashdc.org
SUMMARY:2025-2026 Student Break Bus Trips: Winter Break (Return to University Park)
DESCRIPTION:The Student Break Buses\, sponsored by the Metro Washington\, DC Chapter of the Penn State Alumni Association\, provides safe\, reliable\, and economic transportation for students traveling between University Park and the Washington\, DC metro area over holiday and semester breaks. \n\nUniversity Park\, PA – Pick-up & Drop-off: Curtin Road beside the Berkey Creamery\nBethesda\, MD – Pick-up & Drop-off: Side parking lot of Walter Johnson High School in Bethesda\, MD\n\nThe trip between State College and Washington\, DC usually takes about 4 hours\, but keep in mind that travel times may vary with weather and/or traffic issues. Your purchase will provide a QR code that will be used for bus check-in – please be sure to save your QR code for ease of reference! \nIn the event that a refund is required after this purchase is made\, please reference the Student Break Bus Trip Refund Policy. \n**Please note that riders are able to bring a personal item kept with them and a checked bag to be stored under the bus. In the best interest of space\, please be cognizant of other riders\, and reach out to us at studentaffairs@psuwashdc.org in the event that you have additional luggage and need accommodation. Students with more than the allotted luggage may be turned away due to space restrictions.
URL:https://staging.psuwashdc.org/event/2025-2026-student-break-bus-trips-winter-break-return-to-university-park/
LOCATION:Walter Johnson High School\, 6400 Rock Spring Dr\, Bethesda\, MD\, 20814
ORGANIZER;CN="Student Affairs Committee":MAILTO:studentaffairs@psuhwashdc.org
END:VEVENT
END:VCALENDAR