BEGIN:VCALENDAR
VERSION:2.0
PRODID:-//Penn State DC Chapter Alumni Website - ECPv6.15.18//NONSGML v1.0//EN
CALSCALE:GREGORIAN
METHOD:PUBLISH
X-WR-CALNAME:Penn State DC Chapter Alumni Website
X-ORIGINAL-URL:https://staging.psuwashdc.org
X-WR-CALDESC:Events for Penn State DC Chapter Alumni Website
REFRESH-INTERVAL;VALUE=DURATION:PT1H
X-Robots-Tag:noindex
X-PUBLISHED-TTL:PT1H
BEGIN:VTIMEZONE
TZID:America/New_York
BEGIN:DAYLIGHT
TZOFFSETFROM:-0500
TZOFFSETTO:-0400
TZNAME:EDT
DTSTART:20250309T070000
END:DAYLIGHT
BEGIN:STANDARD
TZOFFSETFROM:-0400
TZOFFSETTO:-0500
TZNAME:EST
DTSTART:20251102T060000
END:STANDARD
BEGIN:DAYLIGHT
TZOFFSETFROM:-0500
TZOFFSETTO:-0400
TZNAME:EDT
DTSTART:20260308T070000
END:DAYLIGHT
BEGIN:STANDARD
TZOFFSETFROM:-0400
TZOFFSETTO:-0500
TZNAME:EST
DTSTART:20261101T060000
END:STANDARD
BEGIN:DAYLIGHT
TZOFFSETFROM:-0500
TZOFFSETTO:-0400
TZNAME:EDT
DTSTART:20270314T070000
END:DAYLIGHT
BEGIN:STANDARD
TZOFFSETFROM:-0400
TZOFFSETTO:-0500
TZNAME:EST
DTSTART:20271107T060000
END:STANDARD
END:VTIMEZONE
BEGIN:VEVENT
DTSTART;TZID=America/New_York:20260705T130000
DTEND;TZID=America/New_York:20260705T170000
DTSTAMP:20260419T144225
CREATED:20260303T005528Z
LAST-MODIFIED:20260325T005553Z
UID:10000072-1783256400-1783270800@staging.psuwashdc.org
SUMMARY:Penn State University Day 2026 @ Nationals Park (vs. Pirates) ⚾
DESCRIPTION:Come out and show your Nittany Lions pride as the Nationals host Penn State University Day at the ballpark! Join Penn State alumni\, students\, parents\, faculty and fans as the Nittany Lions take over the ballpark for a day. Be sure to get there early as the first 20\,000 fans in the ballpark receive a free t-shirt. \nTicket link: https://www.gofevo.com/event/WeAre2026 \nFor more information or to purchase a group of 13 or more\, please contact Holden Collison at 202.640.7826 or email holden.collison@nationals.com \n \n 
URL:https://staging.psuwashdc.org/event/penn-state-university-day-2026-nationals-park-vs-pirates/
LOCATION:Nationals Park\, 1500 South Capitol St SE\, Washington\, DC\, 20003\, United States
ORGANIZER;CN="Social Committee":MAILTO:social@psuwashdc.org
END:VEVENT
END:VCALENDAR