BEGIN:VCALENDAR
VERSION:2.0
PRODID:-//Penn State DC Chapter Alumni Website - ECPv6.15.18//NONSGML v1.0//EN
CALSCALE:GREGORIAN
METHOD:PUBLISH
X-WR-CALNAME:Penn State DC Chapter Alumni Website
X-ORIGINAL-URL:https://staging.psuwashdc.org
X-WR-CALDESC:Events for Penn State DC Chapter Alumni Website
REFRESH-INTERVAL;VALUE=DURATION:PT1H
X-Robots-Tag:noindex
X-PUBLISHED-TTL:PT1H
BEGIN:VTIMEZONE
TZID:America/New_York
BEGIN:DAYLIGHT
TZOFFSETFROM:-0500
TZOFFSETTO:-0400
TZNAME:EDT
DTSTART:20240310T070000
END:DAYLIGHT
BEGIN:STANDARD
TZOFFSETFROM:-0400
TZOFFSETTO:-0500
TZNAME:EST
DTSTART:20241103T060000
END:STANDARD
BEGIN:DAYLIGHT
TZOFFSETFROM:-0500
TZOFFSETTO:-0400
TZNAME:EDT
DTSTART:20250309T070000
END:DAYLIGHT
BEGIN:STANDARD
TZOFFSETFROM:-0400
TZOFFSETTO:-0500
TZNAME:EST
DTSTART:20251102T060000
END:STANDARD
BEGIN:DAYLIGHT
TZOFFSETFROM:-0500
TZOFFSETTO:-0400
TZNAME:EDT
DTSTART:20260308T070000
END:DAYLIGHT
BEGIN:STANDARD
TZOFFSETFROM:-0400
TZOFFSETTO:-0500
TZNAME:EST
DTSTART:20261101T060000
END:STANDARD
END:VTIMEZONE
BEGIN:VEVENT
DTSTART;TZID=America/New_York:20250607T193000
DTEND;TZID=America/New_York:20250607T223000
DTSTAMP:20260420T083241
CREATED:20250325T191153Z
LAST-MODIFIED:20250518T230459Z
UID:10000031-1749324600-1749335400@staging.psuwashdc.org
SUMMARY:Penn State Alumni Night 2025 @ DC United ⚽️
DESCRIPTION:Join fellow Penn State alumni on June 7th as D.C. United faces Chicago at Audi Field. Kickoff is at 7:30 PM. Don’t miss the chance to connect with others and enjoy the game. Get your seats today! \nTicket Link
URL:https://staging.psuwashdc.org/event/2025-dc-united-%e2%9a%bd%ef%b8%8f/
LOCATION:Audi Field\, 100 Potomac Ave SW\, Washington\, DC\, 20024\, United States
ORGANIZER;CN="Social Committee":MAILTO:social@psuwashdc.org
END:VEVENT
END:VCALENDAR