BEGIN:VCALENDAR
VERSION:2.0
PRODID:-//Penn State DC Chapter Alumni Website - ECPv6.15.18//NONSGML v1.0//EN
CALSCALE:GREGORIAN
METHOD:PUBLISH
X-ORIGINAL-URL:https://staging.psuwashdc.org
X-WR-CALDESC:Events for Penn State DC Chapter Alumni Website
REFRESH-INTERVAL;VALUE=DURATION:PT1H
X-Robots-Tag:noindex
X-PUBLISHED-TTL:PT1H
BEGIN:VTIMEZONE
TZID:America/New_York
BEGIN:DAYLIGHT
TZOFFSETFROM:-0500
TZOFFSETTO:-0400
TZNAME:EDT
DTSTART:20230312T070000
END:DAYLIGHT
BEGIN:STANDARD
TZOFFSETFROM:-0400
TZOFFSETTO:-0500
TZNAME:EST
DTSTART:20231105T060000
END:STANDARD
BEGIN:DAYLIGHT
TZOFFSETFROM:-0500
TZOFFSETTO:-0400
TZNAME:EDT
DTSTART:20240310T070000
END:DAYLIGHT
BEGIN:STANDARD
TZOFFSETFROM:-0400
TZOFFSETTO:-0500
TZNAME:EST
DTSTART:20241103T060000
END:STANDARD
BEGIN:DAYLIGHT
TZOFFSETFROM:-0500
TZOFFSETTO:-0400
TZNAME:EDT
DTSTART:20250309T070000
END:DAYLIGHT
BEGIN:STANDARD
TZOFFSETFROM:-0400
TZOFFSETTO:-0500
TZNAME:EST
DTSTART:20251102T060000
END:STANDARD
BEGIN:DAYLIGHT
TZOFFSETFROM:-0500
TZOFFSETTO:-0400
TZNAME:EDT
DTSTART:20260308T070000
END:DAYLIGHT
BEGIN:STANDARD
TZOFFSETFROM:-0400
TZOFFSETTO:-0500
TZNAME:EST
DTSTART:20261101T060000
END:STANDARD
BEGIN:DAYLIGHT
TZOFFSETFROM:-0500
TZOFFSETTO:-0400
TZNAME:EDT
DTSTART:20270314T070000
END:DAYLIGHT
BEGIN:STANDARD
TZOFFSETFROM:-0400
TZOFFSETTO:-0500
TZNAME:EST
DTSTART:20271107T060000
END:STANDARD
END:VTIMEZONE
BEGIN:VEVENT
DTSTART;TZID=America/New_York:20260319T120000
DTEND;TZID=America/New_York:20260406T220000
DTSTAMP:20260419T114936
CREATED:20260215T185927Z
LAST-MODIFIED:20260215T190045Z
UID:10000069-1773921600-1775512800@staging.psuwashdc.org
SUMMARY:March Madness 2026 Bracket Tournament | Scholarship Fundraiser
DESCRIPTION:March Madness is almost here! Join the Metro Washington Chapter’s bracket tournament benefiting our scholarship fund\, with options to participate in both the Men’s and the Women’s tournaments. The same details apply for both and you can enter either or both\, if you really “know ball.” \n\n50/50 prize for winner!\n$15 entry fee\nSubmit additional brackets for $5 ea. to increase your odds of winning\n\nEnter as many times as you please! The money will all be collected into a pool: 50% of the total will go to the winner and the other 50% will go to our chapter scholarship fund\, which helps deserving\, local (DMV) students cover the costs of their Penn State education. Therefore\, the more brackets that are entered\, the more everyone wins\, so be sure to invite your friends! \nFollowing your ticket purchase\, you will receive an email with login information for our private ESPN group(s) where you will submit your bracket(s). You will be able to track your point total and ranking vs. other submissions throughout the tournament. \nIf you have any questions\, don’t hesitate to reach out to scholarship@psuwashdc.org. \nAdd-On: Bribing the Refs \nNo\, you can’t pay us for extra bracket points\, but since the more people play\, the more everyone wins\, we will offer an additional incentive for all REFerrals you make to the event! For every new registrant who notes that you referred them in the ‘notes’ section of their checkout page\, we will grant you one entry into a raffle for a special prize. Invite your friends\, family\, co-workers\, or really anyone you want to show off your sure-to-be-impressive bracket to!
URL:https://staging.psuwashdc.org/event/march-madness-2026-bracket-tournament-scholarship-fundraiser/
ORGANIZER;CN="Scholarship Committee":MAILTO:scholarship@psuwashdc.org
END:VEVENT
BEGIN:VEVENT
DTSTART;TZID=America/New_York:20260309T183000
DTEND;TZID=America/New_York:20260309T200000
DTSTAMP:20260419T114936
CREATED:20251226T172154Z
LAST-MODIFIED:20260225T161702Z
UID:10000068-1773081000-1773086400@staging.psuwashdc.org
SUMMARY:Trivia Night in Bethesda: Scholarship Fundraiser
DESCRIPTION:**2/23 Trivia has been postponed due to weather; new date: Monday\, 3/9 \n—————————————— \nJoin us on Monday\, March 9th at Caddies on Cordell in Bethesda\, MD for the MWCPSAA’s next Trivia Night! This classic bar trivia will benefit the MWCPSAA scholarship fund and is open to all\, Penn Staters and non-Nittany Lions alike. \nThere will be 5 themed rounds of general trivia with a Penn State-themed bonus question at the end of each round and prizes for the winning teams! Caddies will have several food and drink happy hour specials available to enjoy before and after the 6:30pm start to trivia: \n\nAll-day 1/2-price burgers\n$3 off apps and sliders (3-8pm)\nHappy Hour drink specials (3-10pm): $1 off drafts\, $7 wine\, $7 margs\, $6.50 rail drinks and $6.50 orange and grapefruit crushes\n\nThe entry fee is $10/person with all proceeds going to our scholarship fund. Tickets can be purchased in advance online or at the door. There will also be an opportunity for teams to purchase “hints” and to get bonus points for the best team name\, so be sure to play strategically as the winning team will earn a $50 Caddies gift card! \nPlease don’t hesitate to reach out to scholarship@psuwashdc.org with any question\, and we look forward to seeing you there! \nThank you to our sponsor:
URL:https://staging.psuwashdc.org/event/trivia-night-in-bethesda-scholarship-fundraiser/
LOCATION:Caddies on Cordell\, 4922 Cordell Ave\, Bethesda\, MD\, 20814\, United States
ORGANIZER;CN="Scholarship Committee":MAILTO:scholarship@psuwashdc.org
END:VEVENT
BEGIN:VEVENT
DTSTART;TZID=America/New_York:20250916T183000
DTEND;TZID=America/New_York:20250916T203000
DTSTAMP:20260419T114936
CREATED:20250816T012002Z
LAST-MODIFIED:20250826T032423Z
UID:10000060-1758047400-1758054600@staging.psuwashdc.org
SUMMARY:Trivia Tuesday Benefiting Scholarship
DESCRIPTION:Join us on Tuesday\, September 16 at CarPool – Ballston for Trivia Tuesday! This classic bar trivia night will benefit the MWCPSAA scholarship fund and is open to all\, Penn Staters and non-Nittany Lions alike. \nThere will be 5 themed rounds of general trivia with a Penn State-themed bonus question at the end of each round and prizes for the winning teams! CarPool will have food and drink specials available for their 4-7pm happy hour\, so be sure to get there early: trivia will start at 6:30pm. \nThe entry fee is $10/person with all proceeds going to our scholarship fund. Tickets can be purchased online in advance or at the door. There will also be an opportunity for teams to purchase “hints” and to get bonus points for the best team name\, so be sure to play strategically as there will be prizes for the winning teams! \nIf you have any questions\, please don’t hesitate to reach out to scholarship@psuwashdc.org\, and we look forward to seeing you there! \nThank you to our sponsor:
URL:https://staging.psuwashdc.org/event/trivia-tuesday-benefiting-scholarship/
LOCATION:Carpool\, 900 N Glebe Rd\, Arlington\, VA\, 22203\, United States
ORGANIZER;CN="Scholarship Committee":MAILTO:scholarship@psuwashdc.org
END:VEVENT
BEGIN:VEVENT
DTSTART;TZID=America/New_York:20250803T110000
DTEND;TZID=America/New_York:20250803T140000
DTSTAMP:20260419T114936
CREATED:20250622T173114Z
LAST-MODIFIED:20250803T020643Z
UID:10000042-1754218800-1754229600@staging.psuwashdc.org
SUMMARY:2025 Scholarship Golf Tournament
DESCRIPTION:After a year off\, please join us on Sunday\, August 3rd for the return of our annual golf tournament\, in a new format for 2025! \nThis year\, we will be hosting the tournament at Topgolf in Loudoun\, and the event will be tailored for golf-lovers and fun-lovers alike! Participate in the competitive tournament aspect\, or simply join us for an afternoon of casual gameplay\, all in support of our chapter scholarship fund. \nTicket pricing will be structured as follows: \n\nRSVP by June 30th: “Early Eagle” special of $95/ticket + a raffle ticket for an extra drink bucket\nRSVP by July 18th: “Earlie Birdie” special of $99\nRSVP after July 18th: $110 ea.\n*Added 7/27: as a late sign-up special\, we are lowering the prices back to the “Early Birdie” rate of $99 up until registration closes at 11pm EST on 8/2.\n\nRegistration will close on August 2nd\, so be sure to sign up by then! \nA ticket will get you: \n\n3 hours of gameplay\nA lunch buffet\nComplimentary drinks\nPrizes to be awarded to the winners\n\nEach bay holds 6 people\, so gather a group of your friends\, family or golf buddies and join us for a brand new chapter event! \nIf you have any questions\, please don’t hesitate to reach out to scholarship@psuwashdc.org. \nFor more information about Topgolf’s event policies\, view their Terms & Conditions page. \n  \nThank you to our sponsors and supporters! \n \n 
URL:https://staging.psuwashdc.org/event/2025-scholarship-golf-tournament/
LOCATION:Topgolf Loudoun\, 20356 Commonwealth Center Dr\, Ashburn\, VA\, 20147
ORGANIZER;CN="Scholarship Committee":MAILTO:scholarship@psuwashdc.org
END:VEVENT
BEGIN:VEVENT
DTSTART;TZID=America/New_York:20250506T183000
DTEND;TZID=America/New_York:20250506T200000
DTSTAMP:20260419T114936
CREATED:20250423T030304Z
LAST-MODIFIED:20250423T030304Z
UID:10000033-1746556200-1746561600@staging.psuwashdc.org
SUMMARY:Music Trivia Night: Scholarship Fundraiser
DESCRIPTION:Are you a fan of “bar” trivia? Think you can’t be “beat”? Well find some friends\, “band” together\, and join us for a classic bar trivia night for music lovers! \nWhile proceeds from this fundraiser will benefit our chapter scholarship\, all are welcome as the questions will not be Penn State-specific but will span the world of music. The entry fee is $10/person with all proceeds going to our scholarship fund. \nOur host venue\, Ornery Beer Company\, is graciously offering prizes for the winning teams and if you get there early\, be sure to enjoy $2 off their craft beers and apps for their 4-6pm happy hour There is a free parking garage adjacent to the building. \nIf you have any questions\, please don’t hesitate to reach out to scholarship@psuwashdc.org\, and we look forward to seeing you there! \n  \nThank you to our sponsor! \nOrneryLogoOval
URL:https://staging.psuwashdc.org/event/music-trivia-night-scholarship-fundraiser/
LOCATION:Ornery Beer Company\, 3950 University Dr\, Suite 106\, Fairfax\, VA\, 22030\, United States
ORGANIZER;CN="Scholarship Committee":MAILTO:scholarship@psuwashdc.org
END:VEVENT
BEGIN:VEVENT
DTSTART;TZID=America/New_York:20250316T120000
DTEND;TZID=America/New_York:20250407T210000
DTSTAMP:20260419T114936
CREATED:20250311T032811Z
LAST-MODIFIED:20250316T160359Z
UID:10000027-1742126400-1744059600@staging.psuwashdc.org
SUMMARY:March Madness Bracket Tournament | Scholarship Fundraiser
DESCRIPTION:March Madness is here! Join the Metro Washington Chapter’s bracket tournament benefiting our scholarship fund. \n\n50/50 prize for winner!\n$15 entry fee\nSubmit additional brackets for $5 ea. to increase your odds of winning\n\nEnter as many times as you please! The money will all be collected into a pool: 50% of the total will go to the winner and the other 50% will go to our chapter scholarship fund\, which helps deserving\, local (DMV) students cover the costs of their Penn State education. Therefore\, the more brackets that are entered\, the more everyone wins\, so be sure to invite your friends! \n**NEW this year: we will be hosting a matching competition for the Women’s tournament as well! All of the same details apply and you can enter either or both\, if you really “know ball.” \nFollowing your ticket purchase\, you will receive an email with login information for our private ESPN group(s) where you will submit your bracket(s). You will be able to track your point total and ranking vs. other submissions throughout the tournament. \nIf you have any questions\, don’t hesitate to reach out to scholarship@psuwashdc.org. \nAdd-On: Bribing the Refs \nNo\, you can’t pay us for extra bracket points\, but since the more people play\, the more everyone wins\, we will offer an additional incentive for all REFerrals you make to the event! For every new registrant who notes that you referred them in the ‘notes’ section of their checkout page\, we will grant you one entry into a raffle for a special prize. Invite your friends\, family\, co-workers\, or really anyone you want to show off your sure-to-be-impressive bracket to! \n \nThank you to Ireland’s Four Courts for sponsoring this year’s event!
URL:https://staging.psuwashdc.org/event/march-madness-bracket-tournament-scholarship-fundraiser/
ORGANIZER;CN="Scholarship Committee":MAILTO:scholarship@psuwashdc.org
END:VEVENT
BEGIN:VEVENT
DTSTART;TZID=America/New_York:20241207T073000
DTEND;TZID=America/New_York:20241207T200000
DTSTAMP:20260419T114936
CREATED:20241117T214338Z
LAST-MODIFIED:20241117T214338Z
UID:10000025-1733556600-1733601600@staging.psuwashdc.org
SUMMARY:Scholarship Fundraiser: Corner Bakery Cafe - Bethesda
DESCRIPTION:Calling all Bethesda-area alumni: on Saturday\, December 7\, the Corner Bakery Cafe will be sponsoring a fundraiser benefiting our chapter scholarship fund\, which supports local DMV students offset the costs of attending Penn State University. \nFrom 7:30am-8:00pm\, Corner Bakery will be donating 25% of sales for all orders mentioning they are associated with the Metro Washington Chapter of the Penn State Alumni Association\, so please consider supporting our fundraiser by picking up one (or more) of your meals that day! \nFull instructions are below: \nYou can participate in this fundraiser by: \n\nDine in\nTake out\nDelivery\nPick up\n\nIn addition to dining in\, you can participate in this fundraiser in several ways: \n\nPhone Call\nRestaurant Website\nStorefront Walk-in\nNotice: Orders from third-party delivery apps do not qualify for this fundraiser.\n\nPhone Call \nCall 301-469-8774 and mention that you are with Metro Washington Chapter of the Penn State Alumni Association before placing your order. This does not include 3rd-party delivery apps. \nRestaurant Website \nVisit Corner Bakery Cafe’s online order website and use the coupon code of “659” to tie the order to our fundraiser. \nStorefront Walk-in \nVisit the location at 10327 Westlake Dr\, Bethesda 20817 and they will take your order from their storefront for take-out.
URL:https://staging.psuwashdc.org/event/scholarship-fundraiser-corner-bakery-cafe-bethesda/
LOCATION:Corner Bakery Cafe\, 10327 Westlake Dr\, Bethesda\, MD\, 20817\, United States
ORGANIZER;CN="Scholarship Committee":MAILTO:scholarship@psuwashdc.org
END:VEVENT
END:VCALENDAR