BEGIN:VCALENDAR
VERSION:2.0
PRODID:-//Penn State DC Chapter Alumni Website - ECPv6.15.18//NONSGML v1.0//EN
CALSCALE:GREGORIAN
METHOD:PUBLISH
X-WR-CALNAME:Penn State DC Chapter Alumni Website
X-ORIGINAL-URL:https://staging.psuwashdc.org
X-WR-CALDESC:Events for Penn State DC Chapter Alumni Website
REFRESH-INTERVAL;VALUE=DURATION:PT1H
X-Robots-Tag:noindex
X-PUBLISHED-TTL:PT1H
BEGIN:VTIMEZONE
TZID:America/New_York
BEGIN:DAYLIGHT
TZOFFSETFROM:-0500
TZOFFSETTO:-0400
TZNAME:EDT
DTSTART:20240310T070000
END:DAYLIGHT
BEGIN:STANDARD
TZOFFSETFROM:-0400
TZOFFSETTO:-0500
TZNAME:EST
DTSTART:20241103T060000
END:STANDARD
BEGIN:DAYLIGHT
TZOFFSETFROM:-0500
TZOFFSETTO:-0400
TZNAME:EDT
DTSTART:20250309T070000
END:DAYLIGHT
BEGIN:STANDARD
TZOFFSETFROM:-0400
TZOFFSETTO:-0500
TZNAME:EST
DTSTART:20251102T060000
END:STANDARD
BEGIN:DAYLIGHT
TZOFFSETFROM:-0500
TZOFFSETTO:-0400
TZNAME:EDT
DTSTART:20260308T070000
END:DAYLIGHT
BEGIN:STANDARD
TZOFFSETFROM:-0400
TZOFFSETTO:-0500
TZNAME:EST
DTSTART:20261101T060000
END:STANDARD
BEGIN:DAYLIGHT
TZOFFSETFROM:-0500
TZOFFSETTO:-0400
TZNAME:EDT
DTSTART:20270314T070000
END:DAYLIGHT
BEGIN:STANDARD
TZOFFSETFROM:-0400
TZOFFSETTO:-0500
TZNAME:EST
DTSTART:20271107T060000
END:STANDARD
END:VTIMEZONE
BEGIN:VEVENT
DTSTART;TZID=America/New_York:20260306T190000
DTEND;TZID=America/New_York:20260306T220000
DTSTAMP:20260419T134738
CREATED:20251113T233242Z
LAST-MODIFIED:20260306T170755Z
UID:10000064-1772823600-1772834400@staging.psuwashdc.org
SUMMARY:D.C. Diamonds Annual Event
DESCRIPTION:Join us for the Eighth Annual D.C. Diamonds Annual Event\, an evening filled with food\, drinks\, exciting raffles\, and great company all for an incredible cause. \nThis night supports Penn State’s THON\, the world’s largest student-run philanthropy. THON is a year-round fundraising effort dedicated to supporting children and families affected by childhood cancer through the Four Diamonds Fund. \nCome together with our community to celebrate hope\, generosity\, and the spirit of giving. Every ticket makes a difference in the lives of kids and families fighting childhood cancer. \nEvent Highlights: \n\nCatered food\nOpen bar\nRaffle prizes and silent auction\nHeartwarming stories from THON supporters\n\nAll proceeds benefit Penn State’s THON and the Four Diamonds Fund. There are no refunds allowed. \nCan’t make the event? Donate to D.C Diamonds instead!\n  \n \n  \n 
URL:https://staging.psuwashdc.org/event/d-c-diamonds-annual-event-2026/
LOCATION:St. Francis Hall\, 1340 Quincy St NE\, Washington DC\, 20017\, United States
ORGANIZER;CN="THON":MAILTO:dcdiamondsftk@gmail.com
END:VEVENT
BEGIN:VEVENT
DTSTART;TZID=America/New_York:20250913T120000
DTEND;TZID=America/New_York:20250913T130000
DTSTAMP:20260419T134738
CREATED:20250811T142254Z
LAST-MODIFIED:20250811T163949Z
UID:10000052-1757764800-1757768400@staging.psuwashdc.org
SUMMARY:F45 Benefitting THON
DESCRIPTION:Join Penn State DC Alumni at F45 Clarendon to raise money for D.C. Diamonds\, the charity arm of the Metro Washington Chapter of the Penn State Alumni Association for Penn State’s THON. DC Diamonds raises funds for the Four Diamonds Fund whose mission is to conquer childhood cancer. F45 is a global fitness and lifestyle community that offers a complete wellness solution\, combining functional training and high-intensity interval training (HIIT). \nEvent Information: \nDate: Saturday\, September 13 \nTime: 12:00 PM – 1:00 PM
URL:https://staging.psuwashdc.org/event/f45-benefitting-thon/
LOCATION:F45 Training Clarendon\, 2500 Wilson Blvd\, Arlington\, VA\, 22201\, United States
ORGANIZER;CN="THON":MAILTO:dcdiamondsftk@gmail.com
END:VEVENT
BEGIN:VEVENT
DTSTART;TZID=America/New_York:20250816T160500
DTEND;TZID=America/New_York:20250816T183000
DTSTAMP:20260419T134738
CREATED:20250707T212936Z
LAST-MODIFIED:20250707T212936Z
UID:10000044-1755360300-1755369000@staging.psuwashdc.org
SUMMARY:Washington Nationals Benefitting THON 2025
DESCRIPTION:The Washington Nationals benefitting THON game will be on August 16th at Nationals Park against the Philadelphia Phillies! We’re looking forward to this game and you can purchase tickets below! \nNationals Tickets Link\nJoin us for an exciting afternoon of baseball as the Washington Nationals take on the Philadelphia Phillies! Not only will you experience the thrill of the game\, but you’ll also make a meaningful impact. For every ticket sold\, $5 will be donated to THON Nation\, a dedicated organization fighting against childhood cancer. Get ready to cheer and be part of a community coming together for a great cause. Whether you’re a die-hard fan or just looking for a fun day out\, this is your chance to hit a home run against childhood cancer! \n\nEvent Name: Nationals vs. Phillies\nDate: Saturday\, August 16th\nTime: First Pitch at 4:05 PM\nLocation: Nationals Park\, Washington\, D.C.
URL:https://staging.psuwashdc.org/event/washington-nationals-benefitting-thon-2025/
LOCATION:Nationals Park\, 1500 South Capitol St SE\, Washington\, DC\, 20003\, United States
ORGANIZER;CN="THON":MAILTO:dcdiamondsftk@gmail.com
END:VEVENT
BEGIN:VEVENT
DTSTART;TZID=America/New_York:20250307T180000
DTEND;TZID=America/New_York:20250307T210000
DTSTAMP:20260419T134738
CREATED:20250122T021625Z
LAST-MODIFIED:20250122T021625Z
UID:10000026-1741370400-1741381200@staging.psuwashdc.org
SUMMARY:D.C. Diamonds Annual Event
DESCRIPTION:Join us Friday\, March 7th at St. Francis Hall in Washington DC for our annual DC Diamonds event! \nCome out to win some raffles and enjoy food and an open bar with your friends and fellow Penn State alumni. All are welcome to join in our fight against childhood cancer! Purchase tickets here!
URL:https://staging.psuwashdc.org/event/d-c-diamonds-annual-event/
LOCATION:St. Francis Hall\, 1340 Quincy St NE\, Washington DC\, 20017\, United States
ORGANIZER;CN="THON":MAILTO:dcdiamondsftk@gmail.com
END:VEVENT
END:VCALENDAR