BEGIN:VCALENDAR
VERSION:2.0
PRODID:-//Penn State DC Chapter Alumni Website - ECPv6.15.18//NONSGML v1.0//EN
CALSCALE:GREGORIAN
METHOD:PUBLISH
X-ORIGINAL-URL:https://staging.psuwashdc.org
X-WR-CALDESC:Events for Penn State DC Chapter Alumni Website
REFRESH-INTERVAL;VALUE=DURATION:PT1H
X-Robots-Tag:noindex
X-PUBLISHED-TTL:PT1H
BEGIN:VTIMEZONE
TZID:America/New_York
BEGIN:DAYLIGHT
TZOFFSETFROM:-0500
TZOFFSETTO:-0400
TZNAME:EDT
DTSTART:20240310T070000
END:DAYLIGHT
BEGIN:STANDARD
TZOFFSETFROM:-0400
TZOFFSETTO:-0500
TZNAME:EST
DTSTART:20241103T060000
END:STANDARD
BEGIN:DAYLIGHT
TZOFFSETFROM:-0500
TZOFFSETTO:-0400
TZNAME:EDT
DTSTART:20250309T070000
END:DAYLIGHT
BEGIN:STANDARD
TZOFFSETFROM:-0400
TZOFFSETTO:-0500
TZNAME:EST
DTSTART:20251102T060000
END:STANDARD
BEGIN:DAYLIGHT
TZOFFSETFROM:-0500
TZOFFSETTO:-0400
TZNAME:EDT
DTSTART:20260308T070000
END:DAYLIGHT
BEGIN:STANDARD
TZOFFSETFROM:-0400
TZOFFSETTO:-0500
TZNAME:EST
DTSTART:20261101T060000
END:STANDARD
END:VTIMEZONE
BEGIN:VEVENT
DTSTART;TZID=America/New_York:20250809T120000
DTEND;TZID=America/New_York:20250809T150000
DTSTAMP:20260419T115119
CREATED:20250613T173145Z
LAST-MODIFIED:20250613T173145Z
UID:10000041-1754740800-1754751600@staging.psuwashdc.org
SUMMARY:2025 Annual Student Sendoff & BBQ
DESCRIPTION:Please join us at Cabin John Park as we welcome the newest group of Nittany Lions as they join the Penn State family!\n\nThe day will include food\, drinks\, games\, giveaways and more!\n\nDuring the picnic\, we will host a session where freshmen can chat with former students to find out all there is to know about campus life. We will also have a special session for parents to speak with current student parents to ask all the important questions.\n\nPlease kindly register using the RSVP link below so we can ensure there is enough food and drink. Expect typical BBQ fare (salads\, grilled meat\, fruit\, and dessert).\n\nEvent Volunteers Needed:  The chapter also needs alumni volunteers that can be present from 11:30 AM – 4:30 PM to help setup\, greet guests\, mingle with students and their families\, take photos\, cleanup\, etc. Please register below if you’d like to help us run this important event! Be sure to RSVP using either the “Incoming Student” or “Family & Friends” RSVP tickets as well as signing up for volunteering.\n\nDate: Saturday\, August 9\, 2025\nTime: 12:00 PM – 3:00 PM\nLocation: Cabin John Park – Group Picnic Area (7400 Tuckerman Ln\, Bethesda\, MD 20817)\nCost: Free to all incoming freshmen and their families\, current students as well as any PSU DC Metro Alumni Association members.\nTickets: When reserving your free ticket\, please be sure to include the total number of people in your party. Please select “Incoming Student” if you are joining us as a soon-to-be first year student at Penn State\, or “Family & Friends” for all others who wish to join us.\nAttire: Wear your favorite PSU gear! The event is entirely outside\, so please dress accordingly.\nParking: There is a parking lot directly next to the Group Picnic Area\, but space may be limited\, so encourage early arrival and carpooling.
URL:https://staging.psuwashdc.org/event/2025-annual-student-sendoff-bbq/
LOCATION:Cabin John Park\, 7701 Tuckerman Ln\, Bethesda\, Maryland\, 20817
ORGANIZER;CN="Student Affairs Committee":MAILTO:studentaffairs@psuhwashdc.org
END:VEVENT
END:VCALENDAR