BEGIN:VCALENDAR
VERSION:2.0
PRODID:-//Penn State DC Chapter Alumni Website - ECPv6.15.18//NONSGML v1.0//EN
CALSCALE:GREGORIAN
METHOD:PUBLISH
X-ORIGINAL-URL:https://staging.psuwashdc.org
X-WR-CALDESC:Events for Penn State DC Chapter Alumni Website
REFRESH-INTERVAL;VALUE=DURATION:PT1H
X-Robots-Tag:noindex
X-PUBLISHED-TTL:PT1H
BEGIN:VTIMEZONE
TZID:America/New_York
BEGIN:DAYLIGHT
TZOFFSETFROM:-0500
TZOFFSETTO:-0400
TZNAME:EDT
DTSTART:20230312T070000
END:DAYLIGHT
BEGIN:STANDARD
TZOFFSETFROM:-0400
TZOFFSETTO:-0500
TZNAME:EST
DTSTART:20231105T060000
END:STANDARD
BEGIN:DAYLIGHT
TZOFFSETFROM:-0500
TZOFFSETTO:-0400
TZNAME:EDT
DTSTART:20240310T070000
END:DAYLIGHT
BEGIN:STANDARD
TZOFFSETFROM:-0400
TZOFFSETTO:-0500
TZNAME:EST
DTSTART:20241103T060000
END:STANDARD
BEGIN:DAYLIGHT
TZOFFSETFROM:-0500
TZOFFSETTO:-0400
TZNAME:EDT
DTSTART:20250309T070000
END:DAYLIGHT
BEGIN:STANDARD
TZOFFSETFROM:-0400
TZOFFSETTO:-0500
TZNAME:EST
DTSTART:20251102T060000
END:STANDARD
BEGIN:DAYLIGHT
TZOFFSETFROM:-0500
TZOFFSETTO:-0400
TZNAME:EDT
DTSTART:20260308T070000
END:DAYLIGHT
BEGIN:STANDARD
TZOFFSETFROM:-0400
TZOFFSETTO:-0500
TZNAME:EST
DTSTART:20261101T060000
END:STANDARD
END:VTIMEZONE
BEGIN:VTIMEZONE
TZID:UTC
BEGIN:STANDARD
TZOFFSETFROM:+0000
TZOFFSETTO:+0000
TZNAME:UTC
DTSTART:20230101T000000
END:STANDARD
END:VTIMEZONE
BEGIN:VEVENT
DTSTART;TZID=America/New_York:20251227T120000
DTEND;TZID=America/New_York:20251227T160000
DTSTAMP:20260419T134948
CREATED:20251217T000741Z
LAST-MODIFIED:20251217T000741Z
UID:10000067-1766836800-1766851200@staging.psuwashdc.org
SUMMARY:Pinstripe Bowl Watch Party: PSU vs Clemson | Carpool
DESCRIPTION:Pinstripe Bowl Watch Party @ Carpool \nSaturday\, December 27\, 2025 at 12PM \n50/50 Raffle
URL:https://staging.psuwashdc.org/event/pinstripe-bowl-watch-party-psu-vs-clemson-2025/
LOCATION:Carpool\, 900 N Glebe Rd\, Arlington\, VA\, 22203\, United States
ORGANIZER;CN="Social Committee":MAILTO:social@psuwashdc.org
END:VEVENT
BEGIN:VEVENT
DTSTART;TZID=America/New_York:20251018T190000
DTEND;TZID=America/New_York:20251018T220000
DTSTAMP:20260419T134948
CREATED:20250808T135044Z
LAST-MODIFIED:20251006T184659Z
UID:10000057-1760814000-1760824800@staging.psuwashdc.org
SUMMARY:Watch Party: PSU @ Iowa | Carpool | Canned Food Drive
DESCRIPTION:Please join us for one of the best matchups of our season as Penn State takes on Iowa! On top of supporting Penn State football this event will also benefit our canned food drive. One canned food item will give you a ticket and get you a chance at our raffle. We hope to see you at Carpool in Arlington this weekend supporting Penn State football and a great cause!
URL:https://staging.psuwashdc.org/event/watch-party-psu-iowa-carpool/
LOCATION:Carpool\, 900 N Glebe Rd\, Arlington\, VA\, 22203\, United States
ORGANIZER;CN="Social Committee":MAILTO:social@psuwashdc.org
END:VEVENT
BEGIN:VEVENT
DTSTART;TZID=America/New_York:20250916T183000
DTEND;TZID=America/New_York:20250916T203000
DTSTAMP:20260419T134948
CREATED:20250816T012002Z
LAST-MODIFIED:20250826T032423Z
UID:10000060-1758047400-1758054600@staging.psuwashdc.org
SUMMARY:Trivia Tuesday Benefiting Scholarship
DESCRIPTION:Join us on Tuesday\, September 16 at CarPool – Ballston for Trivia Tuesday! This classic bar trivia night will benefit the MWCPSAA scholarship fund and is open to all\, Penn Staters and non-Nittany Lions alike. \nThere will be 5 themed rounds of general trivia with a Penn State-themed bonus question at the end of each round and prizes for the winning teams! CarPool will have food and drink specials available for their 4-7pm happy hour\, so be sure to get there early: trivia will start at 6:30pm. \nThe entry fee is $10/person with all proceeds going to our scholarship fund. Tickets can be purchased online in advance or at the door. There will also be an opportunity for teams to purchase “hints” and to get bonus points for the best team name\, so be sure to play strategically as there will be prizes for the winning teams! \nIf you have any questions\, please don’t hesitate to reach out to scholarship@psuwashdc.org\, and we look forward to seeing you there! \nThank you to our sponsor:
URL:https://staging.psuwashdc.org/event/trivia-tuesday-benefiting-scholarship/
LOCATION:Carpool\, 900 N Glebe Rd\, Arlington\, VA\, 22203\, United States
ORGANIZER;CN="Scholarship Committee":MAILTO:scholarship@psuwashdc.org
END:VEVENT
BEGIN:VEVENT
DTSTART;TZID=America/New_York:20241102T120000
DTEND;TZID=America/New_York:20241102T160000
DTSTAMP:20260419T134948
CREATED:20241024T005324Z
LAST-MODIFIED:20241024T005324Z
UID:10000024-1730548800-1730563200@staging.psuwashdc.org
SUMMARY:Holiday Canned Food Drive
DESCRIPTION:Please join us at the Ohio State watch party for the 3rd Annual Holiday Food Drive! We will be raffling prizes for donating non-perishable food items to the little free pantries around the DMV area.
URL:https://staging.psuwashdc.org/event/holiday-canned-food-drive/
LOCATION:Carpool\, 900 N Glebe Rd\, Arlington\, VA\, 22203\, United States
ATTACH;FMTTYPE=image/jpeg:https://staging.psuwashdc.org/app/uploads/2024/10/Pantry-2.jpg
END:VEVENT
BEGIN:VEVENT
DTSTART;TZID=UTC:20241102T120000
DTEND;TZID=UTC:20241102T150000
DTSTAMP:20260419T134948
CREATED:20240828T030926Z
LAST-MODIFIED:20240905T060941Z
UID:10000012-1730548800-1730559600@staging.psuwashdc.org
SUMMARY:Football Watch Party: PSU vs. Ohio State
DESCRIPTION:**Game day time to be announced** \nJoin us at one of our local Penn State-affiliated watch bars to get a PSU Game Day experience right here in the DMV. This watch party will include a 50/50 raffle\, prizes and food/drinks specials to enjoy the game. Proceeds from the raffle benefit the Metro Washington DC Scholarship Fund. We can’t wait to see you there!
URL:https://staging.psuwashdc.org/event/football-watch-party-psu-vs-ohio-state/
LOCATION:Carpool\, 900 N Glebe Rd\, Arlington\, VA\, 22203\, United States
ORGANIZER;CN="Social Committee":MAILTO:social@psuwashdc.org
END:VEVENT
BEGIN:VEVENT
DTSTART;TZID=UTC:20240907T120000
DTEND;TZID=UTC:20240907T150000
DTSTAMP:20260419T134948
CREATED:20240828T030208Z
LAST-MODIFIED:20240828T031605Z
UID:10000009-1725710400-1725721200@staging.psuwashdc.org
SUMMARY:Football Watch Party: PSU vs. Bowling Green
DESCRIPTION:Join us at one of our local Penn State-affiliated watch bars to get a PSU Game Day experience right here in the DMV. This watch party will include a 50/50 raffle\, prizes and food/drinks specials to enjoy the game. Proceeds from the raffle benefit the Metro Washington DC Scholarship Fund. In addition\, this watch party will be raising funds for THON and our local community service efforts. We can’t wait to see you there!
URL:https://staging.psuwashdc.org/event/football-watch-party-psu-vs-bowling-green/
LOCATION:Carpool\, 900 N Glebe Rd\, Arlington\, VA\, 22203\, United States
ORGANIZER;CN="Social Committee":MAILTO:social@psuwashdc.org
END:VEVENT
END:VCALENDAR