BEGIN:VCALENDAR
VERSION:2.0
PRODID:-//Penn State DC Chapter Alumni Website - ECPv6.15.18//NONSGML v1.0//EN
CALSCALE:GREGORIAN
METHOD:PUBLISH
X-WR-CALNAME:Penn State DC Chapter Alumni Website
X-ORIGINAL-URL:https://staging.psuwashdc.org
X-WR-CALDESC:Events for Penn State DC Chapter Alumni Website
REFRESH-INTERVAL;VALUE=DURATION:PT1H
X-Robots-Tag:noindex
X-PUBLISHED-TTL:PT1H
BEGIN:VTIMEZONE
TZID:America/New_York
BEGIN:DAYLIGHT
TZOFFSETFROM:-0500
TZOFFSETTO:-0400
TZNAME:EDT
DTSTART:20240310T070000
END:DAYLIGHT
BEGIN:STANDARD
TZOFFSETFROM:-0400
TZOFFSETTO:-0500
TZNAME:EST
DTSTART:20241103T060000
END:STANDARD
BEGIN:DAYLIGHT
TZOFFSETFROM:-0500
TZOFFSETTO:-0400
TZNAME:EDT
DTSTART:20250309T070000
END:DAYLIGHT
BEGIN:STANDARD
TZOFFSETFROM:-0400
TZOFFSETTO:-0500
TZNAME:EST
DTSTART:20251102T060000
END:STANDARD
BEGIN:DAYLIGHT
TZOFFSETFROM:-0500
TZOFFSETTO:-0400
TZNAME:EDT
DTSTART:20260308T070000
END:DAYLIGHT
BEGIN:STANDARD
TZOFFSETFROM:-0400
TZOFFSETTO:-0500
TZNAME:EST
DTSTART:20261101T060000
END:STANDARD
END:VTIMEZONE
BEGIN:VEVENT
DTSTART;TZID=America/New_York:20250410T200000
DTEND;TZID=America/New_York:20250410T223000
DTSTAMP:20260419T134809
CREATED:20250407T214535Z
LAST-MODIFIED:20250407T214535Z
UID:10000032-1744315200-1744324200@staging.psuwashdc.org
SUMMARY:Frozen Four Watchparty 🏒🥅🦁
DESCRIPTION:PSU vs Boston College Frozen Four Hockey Match Watchparty! \n\nLocation: Crafthouse Reston\nTime: 8pm
URL:https://staging.psuwashdc.org/event/frozen-four-watchparty2025-%f0%9f%8f%92%f0%9f%a5%85%f0%9f%a6%81/
LOCATION:Crafthouse Reston\, 1888 Explorer St\, Reston\, VA\, 20190\, United States
ORGANIZER;CN="Social Committee":MAILTO:social@psuwashdc.org
END:VEVENT
END:VCALENDAR