BEGIN:VCALENDAR
VERSION:2.0
PRODID:-//Penn State DC Chapter Alumni Website - ECPv6.15.18//NONSGML v1.0//EN
CALSCALE:GREGORIAN
METHOD:PUBLISH
X-ORIGINAL-URL:https://staging.psuwashdc.org
X-WR-CALDESC:Events for Penn State DC Chapter Alumni Website
REFRESH-INTERVAL;VALUE=DURATION:PT1H
X-Robots-Tag:noindex
X-PUBLISHED-TTL:PT1H
BEGIN:VTIMEZONE
TZID:America/New_York
BEGIN:DAYLIGHT
TZOFFSETFROM:-0500
TZOFFSETTO:-0400
TZNAME:EDT
DTSTART:20250309T070000
END:DAYLIGHT
BEGIN:STANDARD
TZOFFSETFROM:-0400
TZOFFSETTO:-0500
TZNAME:EST
DTSTART:20251102T060000
END:STANDARD
BEGIN:DAYLIGHT
TZOFFSETFROM:-0500
TZOFFSETTO:-0400
TZNAME:EDT
DTSTART:20260308T070000
END:DAYLIGHT
BEGIN:STANDARD
TZOFFSETFROM:-0400
TZOFFSETTO:-0500
TZNAME:EST
DTSTART:20261101T060000
END:STANDARD
BEGIN:DAYLIGHT
TZOFFSETFROM:-0500
TZOFFSETTO:-0400
TZNAME:EDT
DTSTART:20270314T070000
END:DAYLIGHT
BEGIN:STANDARD
TZOFFSETFROM:-0400
TZOFFSETTO:-0500
TZNAME:EST
DTSTART:20271107T060000
END:STANDARD
END:VTIMEZONE
BEGIN:VEVENT
DTSTART;TZID=America/New_York:20260328T090000
DTEND;TZID=America/New_York:20260328T113000
DTSTAMP:20260419T133052
CREATED:20260310T234418Z
LAST-MODIFIED:20260328T120412Z
UID:10000073-1774688400-1774697400@staging.psuwashdc.org
SUMMARY:Coffee & Blossoms 2026 💮☕🌸
DESCRIPTION:Join the Metro Washington\, D.C. Chapter of the Penn State Alumni Association for our 3rd Annual Coffee & Blossoms! 🌸☕ \nStart your morning with fellow Penn Staters at Monstera Burrito before we take a scenic walk together to the Martin Luther King Jr. Memorial to enjoy the beautiful cherry blossoms in peak bloom along the Tidal Basin. \nThis relaxed\, springtime tradition is a great opportunity to connect with alumni\, friends\, and the Penn State community while taking in one of D.C.’s most iconic seasonal views. Whether you’re coming for the coffee\, the blossoms\, or the community\, we’d love to see you there! \n📅 Date: Saturday\, March 28\, 2026⏰ Time: 9:00 AM📍 Meet-Up Location: Grace Street Coffee Roasters \nAll are welcome! Bring your family\, friends\, kids\, and even your pets🐶. We hope you’ll join us for a fun and beautiful morning celebrating spring with the Penn State community. \nWe Are! 💙🤍
URL:https://staging.psuwashdc.org/event/coffee-blossoms-2026-%f0%9f%92%ae%e2%98%95%f0%9f%8c%b8/
LOCATION:Grace Street Coffee Roasters\, 3299 K St NW Suite 102\, Washington\, DC\, 20007\, United States
ORGANIZER;CN="Social Committee":MAILTO:social@psuwashdc.org
END:VEVENT
END:VCALENDAR