BEGIN:VCALENDAR
VERSION:2.0
PRODID:-//Penn State DC Chapter Alumni Website - ECPv6.15.18//NONSGML v1.0//EN
CALSCALE:GREGORIAN
METHOD:PUBLISH
X-ORIGINAL-URL:https://staging.psuwashdc.org
X-WR-CALDESC:Events for Penn State DC Chapter Alumni Website
REFRESH-INTERVAL;VALUE=DURATION:PT1H
X-Robots-Tag:noindex
X-PUBLISHED-TTL:PT1H
BEGIN:VTIMEZONE
TZID:America/New_York
BEGIN:DAYLIGHT
TZOFFSETFROM:-0500
TZOFFSETTO:-0400
TZNAME:EDT
DTSTART:20240310T070000
END:DAYLIGHT
BEGIN:STANDARD
TZOFFSETFROM:-0400
TZOFFSETTO:-0500
TZNAME:EST
DTSTART:20241103T060000
END:STANDARD
BEGIN:DAYLIGHT
TZOFFSETFROM:-0500
TZOFFSETTO:-0400
TZNAME:EDT
DTSTART:20250309T070000
END:DAYLIGHT
BEGIN:STANDARD
TZOFFSETFROM:-0400
TZOFFSETTO:-0500
TZNAME:EST
DTSTART:20251102T060000
END:STANDARD
BEGIN:DAYLIGHT
TZOFFSETFROM:-0500
TZOFFSETTO:-0400
TZNAME:EDT
DTSTART:20260308T070000
END:DAYLIGHT
BEGIN:STANDARD
TZOFFSETFROM:-0400
TZOFFSETTO:-0500
TZNAME:EST
DTSTART:20261101T060000
END:STANDARD
BEGIN:DAYLIGHT
TZOFFSETFROM:-0500
TZOFFSETTO:-0400
TZNAME:EDT
DTSTART:20270314T070000
END:DAYLIGHT
BEGIN:STANDARD
TZOFFSETFROM:-0400
TZOFFSETTO:-0500
TZNAME:EST
DTSTART:20271107T060000
END:STANDARD
END:VTIMEZONE
BEGIN:VTIMEZONE
TZID:UTC
BEGIN:STANDARD
TZOFFSETFROM:+0000
TZOFFSETTO:+0000
TZNAME:UTC
DTSTART:20230101T000000
END:STANDARD
END:VTIMEZONE
BEGIN:VEVENT
DTSTART;TZID=America/New_York:20260315T140000
DTEND;TZID=America/New_York:20260315T180000
DTSTAMP:20260419T141422
CREATED:20250728T021450Z
LAST-MODIFIED:20251117T232603Z
UID:10000051-1773583200-1773597600@staging.psuwashdc.org
SUMMARY:2025-2026 Student Break Bus Trips: Spring Break (Return to University Park)
DESCRIPTION:The Student Break Buses\, sponsored by the Metro Washington\, DC Chapter of the Penn State Alumni Association\, provides safe\, reliable\, and economic transportation for students traveling between University Park and the Washington\, DC metro area over holiday and semester breaks. \n\nUniversity Park\, PA – Pick-up & Drop-off: Curtin Road beside the Berkey Creamery\nBethesda\, MD – Pick-up & Drop-off: Side parking lot of Walter Johnson High School in Bethesda\, MD\n\nThe trip between State College and Washington\, DC usually takes about 4 hours\, but keep in mind that travel times may vary with weather and/or traffic issues. Your purchase will provide a QR code that will be used for bus check-in – please be sure to save your QR code for ease of reference! \nIn the event that a refund is required after this purchase is made\, please reference the Student Break Bus Trip Refund Policy. \n**Please note that riders are able to bring a personal item kept with them and a checked bag to be stored under the bus. In the best interest of space\, please be cognizant of other riders\, and reach out to us at studentaffairs@psuwashdc.org in the event that you have additional luggage and need accommodation. Students with more than the allotted luggage may be turned away due to space restrictions.
URL:https://staging.psuwashdc.org/event/2025-2026-student-break-bus-trips-spring-break-return-to-university-park/
LOCATION:Walter Johnson High School\, 6400 Rock Spring Dr\, Bethesda\, MD\, 20814
ORGANIZER;CN="Student Affairs Committee":MAILTO:studentaffairs@psuhwashdc.org
END:VEVENT
BEGIN:VEVENT
DTSTART;TZID=America/New_York:20260306T160000
DTEND;TZID=America/New_York:20260306T200000
DTSTAMP:20260419T141422
CREATED:20250728T021215Z
LAST-MODIFIED:20251117T232511Z
UID:10000050-1772812800-1772827200@staging.psuwashdc.org
SUMMARY:2025-2026 Student Break Bus Trips: Spring Break (Depart from University Park)
DESCRIPTION:The Student Break Buses\, sponsored by the Metro Washington\, DC Chapter of the Penn State Alumni Association\, provides safe\, reliable\, and economic transportation for students traveling between University Park and the Washington\, DC metro area over holiday and semester breaks. \n\nUniversity Park\, PA – Pick-up & Drop-off: Curtin Road beside the Berkey Creamery\nBethesda\, MD – Pick-up & Drop-off: Side parking lot of Walter Johnson High School in Bethesda\, MD\n\nThe trip between State College and Washington\, DC usually takes about 4 hours\, but keep in mind that travel times may vary with weather and/or traffic issues. Your purchase will provide a QR code that will be used for bus check-in – please be sure to save your QR code for ease of reference! \nIn the event that a refund is required after this purchase is made\, please reference the Student Break Bus Trip Refund Policy. \n**Please note that riders are able to bring a personal item kept with them and a checked bag to be stored under the bus. In the best interest of space\, please be cognizant of other riders\, and reach out to us at studentaffairs@psuwashdc.org in the event that you have additional luggage and need accommodation. Students with more than the allotted luggage may be turned away due to space restrictions.
URL:https://staging.psuwashdc.org/event/2025-2026-student-break-bus-trips-spring-break-depart-from-university-park/
LOCATION:Berkey Creamery\, State College\, PA\, Rodney A. Erickson Food Science Building\, 119\, University Park\, PA\, 16802
ORGANIZER;CN="Student Affairs Committee":MAILTO:studentaffairs@psuhwashdc.org
END:VEVENT
BEGIN:VEVENT
DTSTART;TZID=America/New_York:20260111T140000
DTEND;TZID=America/New_York:20260111T180000
DTSTAMP:20260419T141422
CREATED:20250728T021039Z
LAST-MODIFIED:20251117T233004Z
UID:10000049-1768140000-1768154400@staging.psuwashdc.org
SUMMARY:2025-2026 Student Break Bus Trips: Winter Break (Return to University Park)
DESCRIPTION:The Student Break Buses\, sponsored by the Metro Washington\, DC Chapter of the Penn State Alumni Association\, provides safe\, reliable\, and economic transportation for students traveling between University Park and the Washington\, DC metro area over holiday and semester breaks. \n\nUniversity Park\, PA – Pick-up & Drop-off: Curtin Road beside the Berkey Creamery\nBethesda\, MD – Pick-up & Drop-off: Side parking lot of Walter Johnson High School in Bethesda\, MD\n\nThe trip between State College and Washington\, DC usually takes about 4 hours\, but keep in mind that travel times may vary with weather and/or traffic issues. Your purchase will provide a QR code that will be used for bus check-in – please be sure to save your QR code for ease of reference! \nIn the event that a refund is required after this purchase is made\, please reference the Student Break Bus Trip Refund Policy. \n**Please note that riders are able to bring a personal item kept with them and a checked bag to be stored under the bus. In the best interest of space\, please be cognizant of other riders\, and reach out to us at studentaffairs@psuwashdc.org in the event that you have additional luggage and need accommodation. Students with more than the allotted luggage may be turned away due to space restrictions.
URL:https://staging.psuwashdc.org/event/2025-2026-student-break-bus-trips-winter-break-return-to-university-park/
LOCATION:Walter Johnson High School\, 6400 Rock Spring Dr\, Bethesda\, MD\, 20814
ORGANIZER;CN="Student Affairs Committee":MAILTO:studentaffairs@psuhwashdc.org
END:VEVENT
BEGIN:VEVENT
DTSTART;TZID=America/New_York:20251219T160000
DTEND;TZID=America/New_York:20251219T200000
DTSTAMP:20260419T141422
CREATED:20250728T020817Z
LAST-MODIFIED:20251117T232131Z
UID:10000048-1766160000-1766174400@staging.psuwashdc.org
SUMMARY:2025-2026 Student Break Bus Trips: Winter Break (Depart from University Park)
DESCRIPTION:The Student Break Buses\, sponsored by the Metro Washington\, DC Chapter of the Penn State Alumni Association\, provides safe\, reliable\, and economic transportation for students traveling between University Park and the Washington\, DC metro area over holiday and semester breaks. \n\nUniversity Park\, PA – Pick-up & Drop-off: Curtin Road beside the Berkey Creamery\nBethesda\, MD – Pick-up & Drop-off: Side parking lot of Walter Johnson High School in Bethesda\, MD\n\nThe trip between State College and Washington\, DC usually takes about 4 hours\, but keep in mind that travel times may vary with weather and/or traffic issues. Your purchase will provide a QR code that will be used for bus check-in – please be sure to save your QR code for ease of reference! \nIn the event that a refund is required after this purchase is made\, please reference the Student Break Bus Trip Refund Policy. \n**Please note that riders are able to bring a personal item kept with them and a checked bag to be stored under the bus. In the best interest of space\, please be cognizant of other riders\, and reach out to us at studentaffairs@psuwashdc.org in the event that you have additional luggage and need accommodation. Students with more than the allotted luggage may be turned away due to space restrictions.
URL:https://staging.psuwashdc.org/event/2025-2026-student-break-bus-trips-winter-break-depart-from-university-park/
LOCATION:Berkey Creamery\, State College\, PA\, Rodney A. Erickson Food Science Building\, 119\, University Park\, PA\, 16802
ORGANIZER;CN="Student Affairs Committee":MAILTO:studentaffairs@psuhwashdc.org
END:VEVENT
BEGIN:VEVENT
DTSTART;TZID=America/New_York:20251130T140000
DTEND;TZID=America/New_York:20251130T180000
DTSTAMP:20260419T141422
CREATED:20250728T020500Z
LAST-MODIFIED:20251030T190229Z
UID:10000047-1764511200-1764525600@staging.psuwashdc.org
SUMMARY:2025-2026 Student Break Bus Trips: Fall Break (Return to University Park)
DESCRIPTION:The Student Break Buses\, sponsored by the Metro Washington\, DC Chapter of the Penn State Alumni Association\, provides safe\, reliable\, and economic transportation for students traveling between University Park and the Washington\, DC metro area over holiday and semester breaks. \n\nUniversity Park\, PA – Pick-up & Drop-off: Curtin Road beside the Berkey Creamery\nBethesda\, MD – Pick-up & Drop-off: Side parking lot of Walter Johnson High School in Bethesda\, MD\n\nThe trip between State College and Washington\, DC usually takes about 4 hours\, but keep in mind that travel times may vary with weather and/or traffic issues. Your purchase will provide a QR code that will be used for bus check-in – please be sure to save your QR code for ease of reference! \nIn the event that a refund is required after this purchase is made\, please reference the Student Break Bus Trip Refund Policy. \n**Please note that riders are able to bring a personal item kept with them and a checked bag to be stored under the bus. In the best interest of space\, please be cognizant of other riders\, and reach out to us at studentaffairs@psuwashdc.org in the event that you have additional luggage and need accommodation. Students with more than the allotted luggage may be turned away due to space restrictions. \nThis trip will service two buses. There are no assigned seats\, and both will service the same destination.
URL:https://staging.psuwashdc.org/event/2025-2026-student-break-bus-trips-fall-break-return-to-university-park/
LOCATION:Walter Johnson High School\, 6400 Rock Spring Dr\, Bethesda\, MD\, 20814
END:VEVENT
BEGIN:VEVENT
DTSTART;TZID=America/New_York:20251121T160000
DTEND;TZID=America/New_York:20251121T200000
DTSTAMP:20260419T141422
CREATED:20250728T020210Z
LAST-MODIFIED:20251030T190018Z
UID:10000046-1763740800-1763755200@staging.psuwashdc.org
SUMMARY:2025-2026 Student Break Bus Trips: Fall Break (Depart from University Park)
DESCRIPTION:The Student Break Buses\, sponsored by the Metro Washington\, DC Chapter of the Penn State Alumni Association\, provides safe\, reliable\, and economic transportation for students traveling between University Park and the Washington\, DC metro area over holiday and semester breaks. \n\nUniversity Park\, PA – Pick-up & Drop-off: Curtin Road beside the Berkey Creamery\nBethesda\, MD – Pick-up & Drop-off: Side parking lot of Walter Johnson High School in Bethesda\, MD\n\nThe trip between State College and Washington\, DC usually takes about 4 hours\, but keep in mind that travel times may vary with weather and/or traffic issues. Your purchase will provide a QR code that will be used for bus check-in – please be sure to save your QR code for ease of reference! \nIn the event that a refund is required after this purchase is made\, please reference the Student Break Bus Trip Refund Policy. \n**Please note that riders are able to bring a personal item kept with them and a checked bag to be stored under the bus. In the best interest of space\, please be cognizant of other riders\, and reach out to us at studentaffairs@psuwashdc.org in the event that you have additional luggage and need accommodation. Students with more than the allotted luggage may be turned away due to space restrictions. \nThis trip will service two buses. There are no assigned seats\, and both will service the same destination.
URL:https://staging.psuwashdc.org/event/2025-2026-student-break-bus-trips-fall-break-depart-from-university-park/
LOCATION:Berkey Creamery\, State College\, PA\, Rodney A. Erickson Food Science Building\, 119\, University Park\, PA\, 16802
END:VEVENT
BEGIN:VEVENT
DTSTART;TZID=UTC:20250316T140000
DTEND;TZID=UTC:20250316T180000
DTSTAMP:20260419T141422
CREATED:20240825T013017Z
LAST-MODIFIED:20250212T134019Z
UID:10000007-1742133600-1742148000@staging.psuwashdc.org
SUMMARY:2024-2025 Student Break Bus Trips: Spring Break (Return to University Park)
DESCRIPTION:The Student Break Buses\, sponsored by the Metro Washington\, DC Chapter of the Penn State Alumni Association\, provides safe\, reliable\, and economic transportation for students traveling between University Park and the Washington\, DC metro area over holiday and semester breaks. \n\nUniversity Park\, PA – Pick-up & Drop-off: Curtin Road beside the Berkey Creamery\nBethesda\, MD – Pick-up & Drop-off: Side parking lot of Walter Johnson High School in Bethesda\, MD\n\nThe trip between State College and Washington\, DC usually takes about 4 hours\, but keep in mind that travel times may vary with weather and/or traffic issues. Your purchase will provide a QR code that will be used for bus check-in – please be sure to save your QR code for ease of reference! \nIn the event that a refund is required after this purchase is made\, please reference the Student Break Bus Trip Refund Policy.
URL:https://staging.psuwashdc.org/event/2024-2025-student-break-bus-trips-spring-break-return-to-university-park/
LOCATION:Walter Johnson High School\, 6400 Rock Spring Dr\, Bethesda\, MD\, 20814
ATTACH;FMTTYPE=image/jpeg:https://staging.psuwashdc.org/app/uploads/2024/08/2487.jpg
ORGANIZER;CN="Student Affairs Committee":MAILTO:studentaffairs@psuhwashdc.org
END:VEVENT
BEGIN:VEVENT
DTSTART;TZID=UTC:20250112T140000
DTEND;TZID=UTC:20250112T180000
DTSTAMP:20260419T141422
CREATED:20240825T012633Z
LAST-MODIFIED:20241213T012513Z
UID:10000005-1736690400-1736704800@staging.psuwashdc.org
SUMMARY:2024-2025 Student Break Bus Trips: Winter Break (Return to University Park)
DESCRIPTION:The Student Break Buses\, sponsored by the Metro Washington\, DC Chapter of the Penn State Alumni Association\, provides safe\, reliable\, and economic transportation for students traveling between University Park and the Washington\, DC metro area over holiday and semester breaks. \n\nUniversity Park\, PA – Pick-up & Drop-off: Curtin Road beside the Berkey Creamery\nBethesda\, MD – Pick-up & Drop-off: Side parking lot of Walter Johnson High School in Bethesda\, MD\n\nThe trip between State College and Washington\, DC usually takes about 4 hours\, but keep in mind that travel times may vary with weather and/or traffic issues. Your purchase will provide a QR code that will be used for bus check-in – please be sure to save your QR code for ease of reference!
URL:https://staging.psuwashdc.org/event/2024-2025-student-break-bus-trips-winter-break-depart-from-university-park-2/
LOCATION:Walter Johnson High School\, 6400 Rock Spring Dr\, Bethesda\, MD\, 20814
ATTACH;FMTTYPE=image/jpeg:https://staging.psuwashdc.org/app/uploads/2024/08/2487.jpg
ORGANIZER;CN="Student Affairs Committee":MAILTO:studentaffairs@psuhwashdc.org
END:VEVENT
BEGIN:VEVENT
DTSTART;TZID=UTC:20241201T140000
DTEND;TZID=UTC:20241201T180000
DTSTAMP:20260419T141422
CREATED:20240813T073400Z
LAST-MODIFIED:20241122T145035Z
UID:10000003-1733061600-1733076000@staging.psuwashdc.org
SUMMARY:2024-2025 Student Break Student Bus Trip: Thanksgiving Break (Return to University Park)
DESCRIPTION:The Student Break Buses\, sponsored by the Metro Washington\, DC Chapter of the Penn State Alumni Association\, provides safe\, reliable\, and economic transportation for students traveling between University Park and the Washington\, DC metro area over holiday and semester breaks. \n\nUniversity Park\, PA – Pick-up & Drop-off: Curtin Road beside the Berkey Creamery\nBethesda\, MD – Pick-up & Drop-off: Side parking lot of Walter Johnson High School in Bethesda\, MD\n\nThe trip between State College and Washington\, DC usually takes about 4 hours\, but keep in mind that travel times may vary with weather and/or traffic issues. Your purchase will provide a QR code that will be used for bus check-in – please be sure to save your QR code for ease of reference!
URL:https://staging.psuwashdc.org/event/2024-2025-spring-break-student-bus-trip-december-1-2024/
LOCATION:Walter Johnson High School\, 6400 Rock Spring Dr\, Bethesda\, MD\, 20814
ATTACH;FMTTYPE=image/jpeg:https://staging.psuwashdc.org/app/uploads/2024/08/2487.jpg
ORGANIZER;CN="Student Affairs Committee":MAILTO:studentaffairs@psuhwashdc.org
END:VEVENT
END:VCALENDAR